BEGIN:VCALENDAR
VERSION:2.0
PRODID:-//CenterPoint Church | Washington, DC - ECPv6.15.20//NONSGML v1.0//EN
CALSCALE:GREGORIAN
METHOD:PUBLISH
X-WR-CALNAME:CenterPoint Church | Washington, DC
X-ORIGINAL-URL:https://centerpointdmv.org
X-WR-CALDESC:Events for CenterPoint Church | Washington, DC
REFRESH-INTERVAL;VALUE=DURATION:PT1H
X-Robots-Tag:noindex
X-PUBLISHED-TTL:PT1H
BEGIN:VTIMEZONE
TZID:UTC
BEGIN:STANDARD
TZOFFSETFROM:+0000
TZOFFSETTO:+0000
TZNAME:UTC
DTSTART:20250101T000000
END:STANDARD
END:VTIMEZONE
BEGIN:VEVENT
DTSTART;TZID=UTC:20260301T090000
DTEND;TZID=UTC:20260301T103000
DTSTAMP:20260425T130954
CREATED:20220305T213543Z
LAST-MODIFIED:20220305T213543Z
UID:10282-1772355600-1772361000@centerpointdmv.org
SUMMARY:Worship Service
DESCRIPTION:
URL:https://centerpointdmv.org/event/worship-service-2026-03-01/
ATTACH;FMTTYPE=image/jpeg:https://centerpointdmv.org/wp-content/uploads/2022/03/CenterPoint-Church-couch-church-1920x1267-1.jpg
END:VEVENT
BEGIN:VEVENT
DTSTART;TZID=UTC:20260303T190000
DTEND;TZID=UTC:20260303T200000
DTSTAMP:20260425T130954
CREATED:20220305T213056Z
LAST-MODIFIED:20220305T213056Z
UID:10283-1772564400-1772568000@centerpointdmv.org
SUMMARY:Wailing Women Win Prayer Call
DESCRIPTION:Dial-In Number: 202-780-6411. The Wailing Women Win Prayer Call is a powerful experience of communal prayer and spiritual healing. Led by a team of trained and passionate prayer warriors\, this call unites women from around the world in a sacred setting to raise their voices in prayer for justice and mercy. During the call\, each woman is encouraged to share her story of struggle and hope\, as well as to release her burdens and fears through prayer. As the prayers of the women are weaved together\, a powerful wave of love and healing is released into the world. This experience of collective spiritual energy helps to bring a sense of unity\, hope and healing to those in need.
URL:https://centerpointdmv.org/event/womens-prayer-call-2026-03-03/
CATEGORIES:Virtual
ATTACH;FMTTYPE=image/jpeg:https://centerpointdmv.org/wp-content/uploads/2022/03/Copy-of-CP-Prayer-Call-Ebony-McMorris-Digital.jpg
END:VEVENT
BEGIN:VEVENT
DTSTART;TZID=UTC:20260305T190000
DTEND;TZID=UTC:20260305T200000
DTSTAMP:20260425T130954
CREATED:20220305T211411Z
LAST-MODIFIED:20220305T211411Z
UID:10284-1772737200-1772740800@centerpointdmv.org
SUMMARY:Kingdom Bible Study
DESCRIPTION:
URL:https://centerpointdmv.org/event/kingdom-bible-study-2026-03-05/
CATEGORIES:Virtual
ATTACH;FMTTYPE=image/jpeg:https://centerpointdmv.org/wp-content/uploads/2022/03/CenterPoint-Church-kingdom-bible-study-1920x1267-1.jpg
END:VEVENT
BEGIN:VEVENT
DTSTART;TZID=UTC:20260307T180000
DTEND;TZID=UTC:20260307T190000
DTSTAMP:20260425T130954
CREATED:20220305T210427Z
LAST-MODIFIED:20220305T210427Z
UID:10285-1772906400-1772910000@centerpointdmv.org
SUMMARY:Couch Church Rewind
DESCRIPTION:
URL:https://centerpointdmv.org/event/couch-church-rewind-2026-03-07/
ATTACH;FMTTYPE=image/jpeg:https://centerpointdmv.org/wp-content/uploads/2022/03/CenterPoint-Church-couch-church-rewind-1920x1267-1.jpg
END:VEVENT
BEGIN:VEVENT
DTSTART;TZID=UTC:20260308T090000
DTEND;TZID=UTC:20260308T103000
DTSTAMP:20260425T130954
CREATED:20220305T213543Z
LAST-MODIFIED:20220305T213543Z
UID:10286-1772960400-1772965800@centerpointdmv.org
SUMMARY:Worship Service
DESCRIPTION:
URL:https://centerpointdmv.org/event/worship-service-2026-03-08/
ATTACH;FMTTYPE=image/jpeg:https://centerpointdmv.org/wp-content/uploads/2022/03/CenterPoint-Church-couch-church-1920x1267-1.jpg
END:VEVENT
BEGIN:VEVENT
DTSTART;TZID=UTC:20260310T190000
DTEND;TZID=UTC:20260310T200000
DTSTAMP:20260425T130954
CREATED:20220305T213056Z
LAST-MODIFIED:20220305T213056Z
UID:10287-1773169200-1773172800@centerpointdmv.org
SUMMARY:Wailing Women Win Prayer Call
DESCRIPTION:Dial-In Number: 202-780-6411. The Wailing Women Win Prayer Call is a powerful experience of communal prayer and spiritual healing. Led by a team of trained and passionate prayer warriors\, this call unites women from around the world in a sacred setting to raise their voices in prayer for justice and mercy. During the call\, each woman is encouraged to share her story of struggle and hope\, as well as to release her burdens and fears through prayer. As the prayers of the women are weaved together\, a powerful wave of love and healing is released into the world. This experience of collective spiritual energy helps to bring a sense of unity\, hope and healing to those in need.
URL:https://centerpointdmv.org/event/womens-prayer-call-2026-03-10/
CATEGORIES:Virtual
ATTACH;FMTTYPE=image/jpeg:https://centerpointdmv.org/wp-content/uploads/2022/03/Copy-of-CP-Prayer-Call-Ebony-McMorris-Digital.jpg
END:VEVENT
BEGIN:VEVENT
DTSTART;TZID=UTC:20260312T190000
DTEND;TZID=UTC:20260312T200000
DTSTAMP:20260425T130954
CREATED:20220305T211411Z
LAST-MODIFIED:20220305T211411Z
UID:10288-1773342000-1773345600@centerpointdmv.org
SUMMARY:Kingdom Bible Study
DESCRIPTION:
URL:https://centerpointdmv.org/event/kingdom-bible-study-2026-03-12/
CATEGORIES:Virtual
ATTACH;FMTTYPE=image/jpeg:https://centerpointdmv.org/wp-content/uploads/2022/03/CenterPoint-Church-kingdom-bible-study-1920x1267-1.jpg
END:VEVENT
BEGIN:VEVENT
DTSTART;TZID=UTC:20260314T180000
DTEND;TZID=UTC:20260314T190000
DTSTAMP:20260425T130954
CREATED:20220305T210427Z
LAST-MODIFIED:20220305T210427Z
UID:10289-1773511200-1773514800@centerpointdmv.org
SUMMARY:Couch Church Rewind
DESCRIPTION:
URL:https://centerpointdmv.org/event/couch-church-rewind-2026-03-14/
ATTACH;FMTTYPE=image/jpeg:https://centerpointdmv.org/wp-content/uploads/2022/03/CenterPoint-Church-couch-church-rewind-1920x1267-1.jpg
END:VEVENT
BEGIN:VEVENT
DTSTART;TZID=UTC:20260315T090000
DTEND;TZID=UTC:20260315T103000
DTSTAMP:20260425T130954
CREATED:20220305T213543Z
LAST-MODIFIED:20220305T213543Z
UID:10290-1773565200-1773570600@centerpointdmv.org
SUMMARY:Worship Service
DESCRIPTION:
URL:https://centerpointdmv.org/event/worship-service-2026-03-15/
ATTACH;FMTTYPE=image/jpeg:https://centerpointdmv.org/wp-content/uploads/2022/03/CenterPoint-Church-couch-church-1920x1267-1.jpg
END:VEVENT
BEGIN:VEVENT
DTSTART;TZID=UTC:20260317T190000
DTEND;TZID=UTC:20260317T200000
DTSTAMP:20260425T130954
CREATED:20220305T213056Z
LAST-MODIFIED:20220305T213056Z
UID:10291-1773774000-1773777600@centerpointdmv.org
SUMMARY:Wailing Women Win Prayer Call
DESCRIPTION:Dial-In Number: 202-780-6411. The Wailing Women Win Prayer Call is a powerful experience of communal prayer and spiritual healing. Led by a team of trained and passionate prayer warriors\, this call unites women from around the world in a sacred setting to raise their voices in prayer for justice and mercy. During the call\, each woman is encouraged to share her story of struggle and hope\, as well as to release her burdens and fears through prayer. As the prayers of the women are weaved together\, a powerful wave of love and healing is released into the world. This experience of collective spiritual energy helps to bring a sense of unity\, hope and healing to those in need.
URL:https://centerpointdmv.org/event/womens-prayer-call-2026-03-17/
CATEGORIES:Virtual
ATTACH;FMTTYPE=image/jpeg:https://centerpointdmv.org/wp-content/uploads/2022/03/Copy-of-CP-Prayer-Call-Ebony-McMorris-Digital.jpg
END:VEVENT
BEGIN:VEVENT
DTSTART;TZID=UTC:20260319T190000
DTEND;TZID=UTC:20260319T200000
DTSTAMP:20260425T130954
CREATED:20220305T211411Z
LAST-MODIFIED:20220305T211411Z
UID:10292-1773946800-1773950400@centerpointdmv.org
SUMMARY:Kingdom Bible Study
DESCRIPTION:
URL:https://centerpointdmv.org/event/kingdom-bible-study-2026-03-19/
CATEGORIES:Virtual
ATTACH;FMTTYPE=image/jpeg:https://centerpointdmv.org/wp-content/uploads/2022/03/CenterPoint-Church-kingdom-bible-study-1920x1267-1.jpg
END:VEVENT
BEGIN:VEVENT
DTSTART;TZID=UTC:20260321T180000
DTEND;TZID=UTC:20260321T190000
DTSTAMP:20260425T130954
CREATED:20220305T210427Z
LAST-MODIFIED:20220305T210427Z
UID:10293-1774116000-1774119600@centerpointdmv.org
SUMMARY:Couch Church Rewind
DESCRIPTION:
URL:https://centerpointdmv.org/event/couch-church-rewind-2026-03-21/
ATTACH;FMTTYPE=image/jpeg:https://centerpointdmv.org/wp-content/uploads/2022/03/CenterPoint-Church-couch-church-rewind-1920x1267-1.jpg
END:VEVENT
BEGIN:VEVENT
DTSTART;TZID=UTC:20260322T090000
DTEND;TZID=UTC:20260322T103000
DTSTAMP:20260425T130954
CREATED:20220305T213543Z
LAST-MODIFIED:20220305T213543Z
UID:10294-1774170000-1774175400@centerpointdmv.org
SUMMARY:Worship Service
DESCRIPTION:
URL:https://centerpointdmv.org/event/worship-service-2026-03-22/
ATTACH;FMTTYPE=image/jpeg:https://centerpointdmv.org/wp-content/uploads/2022/03/CenterPoint-Church-couch-church-1920x1267-1.jpg
END:VEVENT
BEGIN:VEVENT
DTSTART;TZID=UTC:20260324T190000
DTEND;TZID=UTC:20260324T200000
DTSTAMP:20260425T130954
CREATED:20220305T213056Z
LAST-MODIFIED:20220305T213056Z
UID:10295-1774378800-1774382400@centerpointdmv.org
SUMMARY:Wailing Women Win Prayer Call
DESCRIPTION:Dial-In Number: 202-780-6411. The Wailing Women Win Prayer Call is a powerful experience of communal prayer and spiritual healing. Led by a team of trained and passionate prayer warriors\, this call unites women from around the world in a sacred setting to raise their voices in prayer for justice and mercy. During the call\, each woman is encouraged to share her story of struggle and hope\, as well as to release her burdens and fears through prayer. As the prayers of the women are weaved together\, a powerful wave of love and healing is released into the world. This experience of collective spiritual energy helps to bring a sense of unity\, hope and healing to those in need.
URL:https://centerpointdmv.org/event/womens-prayer-call-2026-03-24/
CATEGORIES:Virtual
ATTACH;FMTTYPE=image/jpeg:https://centerpointdmv.org/wp-content/uploads/2022/03/Copy-of-CP-Prayer-Call-Ebony-McMorris-Digital.jpg
END:VEVENT
BEGIN:VEVENT
DTSTART;TZID=UTC:20260326T190000
DTEND;TZID=UTC:20260326T200000
DTSTAMP:20260425T130954
CREATED:20220305T211411Z
LAST-MODIFIED:20220305T211411Z
UID:10296-1774551600-1774555200@centerpointdmv.org
SUMMARY:Kingdom Bible Study
DESCRIPTION:
URL:https://centerpointdmv.org/event/kingdom-bible-study-2026-03-26/
CATEGORIES:Virtual
ATTACH;FMTTYPE=image/jpeg:https://centerpointdmv.org/wp-content/uploads/2022/03/CenterPoint-Church-kingdom-bible-study-1920x1267-1.jpg
END:VEVENT
BEGIN:VEVENT
DTSTART;TZID=UTC:20260328T180000
DTEND;TZID=UTC:20260328T190000
DTSTAMP:20260425T130954
CREATED:20220305T210427Z
LAST-MODIFIED:20220305T210427Z
UID:10297-1774720800-1774724400@centerpointdmv.org
SUMMARY:Couch Church Rewind
DESCRIPTION:
URL:https://centerpointdmv.org/event/couch-church-rewind-2026-03-28/
ATTACH;FMTTYPE=image/jpeg:https://centerpointdmv.org/wp-content/uploads/2022/03/CenterPoint-Church-couch-church-rewind-1920x1267-1.jpg
END:VEVENT
BEGIN:VEVENT
DTSTART;TZID=UTC:20260329T090000
DTEND;TZID=UTC:20260329T103000
DTSTAMP:20260425T130954
CREATED:20220305T213543Z
LAST-MODIFIED:20220305T213543Z
UID:10298-1774774800-1774780200@centerpointdmv.org
SUMMARY:Worship Service
DESCRIPTION:
URL:https://centerpointdmv.org/event/worship-service-2026-03-29/
ATTACH;FMTTYPE=image/jpeg:https://centerpointdmv.org/wp-content/uploads/2022/03/CenterPoint-Church-couch-church-1920x1267-1.jpg
END:VEVENT
BEGIN:VEVENT
DTSTART;TZID=UTC:20260331T190000
DTEND;TZID=UTC:20260331T200000
DTSTAMP:20260425T130954
CREATED:20220305T213056Z
LAST-MODIFIED:20220305T213056Z
UID:10299-1774983600-1774987200@centerpointdmv.org
SUMMARY:Wailing Women Win Prayer Call
DESCRIPTION:Dial-In Number: 202-780-6411. The Wailing Women Win Prayer Call is a powerful experience of communal prayer and spiritual healing. Led by a team of trained and passionate prayer warriors\, this call unites women from around the world in a sacred setting to raise their voices in prayer for justice and mercy. During the call\, each woman is encouraged to share her story of struggle and hope\, as well as to release her burdens and fears through prayer. As the prayers of the women are weaved together\, a powerful wave of love and healing is released into the world. This experience of collective spiritual energy helps to bring a sense of unity\, hope and healing to those in need.
URL:https://centerpointdmv.org/event/womens-prayer-call-2026-03-31/
CATEGORIES:Virtual
ATTACH;FMTTYPE=image/jpeg:https://centerpointdmv.org/wp-content/uploads/2022/03/Copy-of-CP-Prayer-Call-Ebony-McMorris-Digital.jpg
END:VEVENT
END:VCALENDAR