BEGIN:VCALENDAR
VERSION:2.0
PRODID:-//CenterPoint Church | Washington, DC - ECPv6.15.20//NONSGML v1.0//EN
CALSCALE:GREGORIAN
METHOD:PUBLISH
X-WR-CALNAME:CenterPoint Church | Washington, DC
X-ORIGINAL-URL:https://centerpointdmv.org
X-WR-CALDESC:Events for CenterPoint Church | Washington, DC
REFRESH-INTERVAL;VALUE=DURATION:PT1H
X-Robots-Tag:noindex
X-PUBLISHED-TTL:PT1H
BEGIN:VTIMEZONE
TZID:UTC
BEGIN:STANDARD
TZOFFSETFROM:+0000
TZOFFSETTO:+0000
TZNAME:UTC
DTSTART:20240101T000000
END:STANDARD
END:VTIMEZONE
BEGIN:VEVENT
DTSTART;TZID=UTC:20260201T090000
DTEND;TZID=UTC:20260201T103000
DTSTAMP:20260425T233934
CREATED:20220305T213543Z
LAST-MODIFIED:20220305T213543Z
UID:10266-1769936400-1769941800@centerpointdmv.org
SUMMARY:Worship Service
DESCRIPTION:
URL:https://centerpointdmv.org/event/worship-service-2026-02-01/
ATTACH;FMTTYPE=image/jpeg:https://centerpointdmv.org/wp-content/uploads/2022/03/CenterPoint-Church-couch-church-1920x1267-1.jpg
END:VEVENT
BEGIN:VEVENT
DTSTART;TZID=UTC:20260131T180000
DTEND;TZID=UTC:20260131T190000
DTSTAMP:20260425T233934
CREATED:20220305T210427Z
LAST-MODIFIED:20220305T210427Z
UID:10265-1769882400-1769886000@centerpointdmv.org
SUMMARY:Couch Church Rewind
DESCRIPTION:
URL:https://centerpointdmv.org/event/couch-church-rewind-2026-01-31/
ATTACH;FMTTYPE=image/jpeg:https://centerpointdmv.org/wp-content/uploads/2022/03/CenterPoint-Church-couch-church-rewind-1920x1267-1.jpg
END:VEVENT
BEGIN:VEVENT
DTSTART;TZID=UTC:20260129T190000
DTEND;TZID=UTC:20260129T200000
DTSTAMP:20260425T233934
CREATED:20220305T211411Z
LAST-MODIFIED:20220305T211411Z
UID:10264-1769713200-1769716800@centerpointdmv.org
SUMMARY:Kingdom Bible Study
DESCRIPTION:
URL:https://centerpointdmv.org/event/kingdom-bible-study-2026-01-29/
CATEGORIES:Virtual
ATTACH;FMTTYPE=image/jpeg:https://centerpointdmv.org/wp-content/uploads/2022/03/CenterPoint-Church-kingdom-bible-study-1920x1267-1.jpg
END:VEVENT
BEGIN:VEVENT
DTSTART;TZID=UTC:20260127T190000
DTEND;TZID=UTC:20260127T200000
DTSTAMP:20260425T233934
CREATED:20220305T213056Z
LAST-MODIFIED:20220305T213056Z
UID:10252-1769540400-1769544000@centerpointdmv.org
SUMMARY:Wailing Women Win Prayer Call
DESCRIPTION:Dial-In Number: 202-780-6411. The Wailing Women Win Prayer Call is a powerful experience of communal prayer and spiritual healing. Led by a team of trained and passionate prayer warriors\, this call unites women from around the world in a sacred setting to raise their voices in prayer for justice and mercy. During the call\, each woman is encouraged to share her story of struggle and hope\, as well as to release her burdens and fears through prayer. As the prayers of the women are weaved together\, a powerful wave of love and healing is released into the world. This experience of collective spiritual energy helps to bring a sense of unity\, hope and healing to those in need.
URL:https://centerpointdmv.org/event/womens-prayer-call-2026-01-27/
CATEGORIES:Virtual
ATTACH;FMTTYPE=image/jpeg:https://centerpointdmv.org/wp-content/uploads/2022/03/Copy-of-CP-Prayer-Call-Ebony-McMorris-Digital.jpg
END:VEVENT
BEGIN:VEVENT
DTSTART;TZID=UTC:20260125T090000
DTEND;TZID=UTC:20260125T103000
DTSTAMP:20260425T233934
CREATED:20220305T213543Z
LAST-MODIFIED:20220305T213543Z
UID:10250-1769331600-1769337000@centerpointdmv.org
SUMMARY:Worship Service
DESCRIPTION:
URL:https://centerpointdmv.org/event/worship-service-2026-01-25/
ATTACH;FMTTYPE=image/jpeg:https://centerpointdmv.org/wp-content/uploads/2022/03/CenterPoint-Church-couch-church-1920x1267-1.jpg
END:VEVENT
BEGIN:VEVENT
DTSTART;TZID=UTC:20260124T180000
DTEND;TZID=UTC:20260124T190000
DTSTAMP:20260425T233934
CREATED:20220305T210427Z
LAST-MODIFIED:20220305T210427Z
UID:10249-1769277600-1769281200@centerpointdmv.org
SUMMARY:Couch Church Rewind
DESCRIPTION:
URL:https://centerpointdmv.org/event/couch-church-rewind-2026-01-24/
ATTACH;FMTTYPE=image/jpeg:https://centerpointdmv.org/wp-content/uploads/2022/03/CenterPoint-Church-couch-church-rewind-1920x1267-1.jpg
END:VEVENT
BEGIN:VEVENT
DTSTART;TZID=UTC:20260122T190000
DTEND;TZID=UTC:20260122T200000
DTSTAMP:20260425T233934
CREATED:20220305T211411Z
LAST-MODIFIED:20220305T211411Z
UID:10248-1769108400-1769112000@centerpointdmv.org
SUMMARY:Kingdom Bible Study
DESCRIPTION:
URL:https://centerpointdmv.org/event/kingdom-bible-study-2026-01-22/
CATEGORIES:Virtual
ATTACH;FMTTYPE=image/jpeg:https://centerpointdmv.org/wp-content/uploads/2022/03/CenterPoint-Church-kingdom-bible-study-1920x1267-1.jpg
END:VEVENT
BEGIN:VEVENT
DTSTART;TZID=UTC:20260120T190000
DTEND;TZID=UTC:20260120T200000
DTSTAMP:20260425T233934
CREATED:20220305T213056Z
LAST-MODIFIED:20220305T213056Z
UID:10247-1768935600-1768939200@centerpointdmv.org
SUMMARY:Wailing Women Win Prayer Call
DESCRIPTION:Dial-In Number: 202-780-6411. The Wailing Women Win Prayer Call is a powerful experience of communal prayer and spiritual healing. Led by a team of trained and passionate prayer warriors\, this call unites women from around the world in a sacred setting to raise their voices in prayer for justice and mercy. During the call\, each woman is encouraged to share her story of struggle and hope\, as well as to release her burdens and fears through prayer. As the prayers of the women are weaved together\, a powerful wave of love and healing is released into the world. This experience of collective spiritual energy helps to bring a sense of unity\, hope and healing to those in need.
URL:https://centerpointdmv.org/event/womens-prayer-call-2026-01-20/
CATEGORIES:Virtual
ATTACH;FMTTYPE=image/jpeg:https://centerpointdmv.org/wp-content/uploads/2022/03/Copy-of-CP-Prayer-Call-Ebony-McMorris-Digital.jpg
END:VEVENT
BEGIN:VEVENT
DTSTART;TZID=UTC:20260118T090000
DTEND;TZID=UTC:20260118T103000
DTSTAMP:20260425T233934
CREATED:20220305T213543Z
LAST-MODIFIED:20220305T213543Z
UID:10246-1768726800-1768732200@centerpointdmv.org
SUMMARY:Worship Service
DESCRIPTION:
URL:https://centerpointdmv.org/event/worship-service-2026-01-18/
ATTACH;FMTTYPE=image/jpeg:https://centerpointdmv.org/wp-content/uploads/2022/03/CenterPoint-Church-couch-church-1920x1267-1.jpg
END:VEVENT
BEGIN:VEVENT
DTSTART;TZID=UTC:20260117T180000
DTEND;TZID=UTC:20260117T190000
DTSTAMP:20260425T233934
CREATED:20220305T210427Z
LAST-MODIFIED:20220305T210427Z
UID:10245-1768672800-1768676400@centerpointdmv.org
SUMMARY:Couch Church Rewind
DESCRIPTION:
URL:https://centerpointdmv.org/event/couch-church-rewind-2026-01-17/
ATTACH;FMTTYPE=image/jpeg:https://centerpointdmv.org/wp-content/uploads/2022/03/CenterPoint-Church-couch-church-rewind-1920x1267-1.jpg
END:VEVENT
BEGIN:VEVENT
DTSTART;TZID=UTC:20260115T190000
DTEND;TZID=UTC:20260115T200000
DTSTAMP:20260425T233934
CREATED:20220305T211411Z
LAST-MODIFIED:20220305T211411Z
UID:10244-1768503600-1768507200@centerpointdmv.org
SUMMARY:Kingdom Bible Study
DESCRIPTION:
URL:https://centerpointdmv.org/event/kingdom-bible-study-2026-01-15/
CATEGORIES:Virtual
ATTACH;FMTTYPE=image/jpeg:https://centerpointdmv.org/wp-content/uploads/2022/03/CenterPoint-Church-kingdom-bible-study-1920x1267-1.jpg
END:VEVENT
BEGIN:VEVENT
DTSTART;TZID=UTC:20260113T190000
DTEND;TZID=UTC:20260113T200000
DTSTAMP:20260425T233934
CREATED:20220305T213056Z
LAST-MODIFIED:20220305T213056Z
UID:10243-1768330800-1768334400@centerpointdmv.org
SUMMARY:Wailing Women Win Prayer Call
DESCRIPTION:Dial-In Number: 202-780-6411. The Wailing Women Win Prayer Call is a powerful experience of communal prayer and spiritual healing. Led by a team of trained and passionate prayer warriors\, this call unites women from around the world in a sacred setting to raise their voices in prayer for justice and mercy. During the call\, each woman is encouraged to share her story of struggle and hope\, as well as to release her burdens and fears through prayer. As the prayers of the women are weaved together\, a powerful wave of love and healing is released into the world. This experience of collective spiritual energy helps to bring a sense of unity\, hope and healing to those in need.
URL:https://centerpointdmv.org/event/womens-prayer-call-2026-01-13/
CATEGORIES:Virtual
ATTACH;FMTTYPE=image/jpeg:https://centerpointdmv.org/wp-content/uploads/2022/03/Copy-of-CP-Prayer-Call-Ebony-McMorris-Digital.jpg
END:VEVENT
BEGIN:VEVENT
DTSTART;TZID=UTC:20260111T090000
DTEND;TZID=UTC:20260111T103000
DTSTAMP:20260425T233934
CREATED:20220305T213543Z
LAST-MODIFIED:20220305T213543Z
UID:10242-1768122000-1768127400@centerpointdmv.org
SUMMARY:Worship Service
DESCRIPTION:
URL:https://centerpointdmv.org/event/worship-service-2026-01-11/
ATTACH;FMTTYPE=image/jpeg:https://centerpointdmv.org/wp-content/uploads/2022/03/CenterPoint-Church-couch-church-1920x1267-1.jpg
END:VEVENT
BEGIN:VEVENT
DTSTART;TZID=UTC:20260110T180000
DTEND;TZID=UTC:20260110T190000
DTSTAMP:20260425T233934
CREATED:20220305T210427Z
LAST-MODIFIED:20220305T210427Z
UID:10241-1768068000-1768071600@centerpointdmv.org
SUMMARY:Couch Church Rewind
DESCRIPTION:
URL:https://centerpointdmv.org/event/couch-church-rewind-2026-01-10/
ATTACH;FMTTYPE=image/jpeg:https://centerpointdmv.org/wp-content/uploads/2022/03/CenterPoint-Church-couch-church-rewind-1920x1267-1.jpg
END:VEVENT
BEGIN:VEVENT
DTSTART;TZID=UTC:20260108T190000
DTEND;TZID=UTC:20260108T200000
DTSTAMP:20260425T233934
CREATED:20220305T211411Z
LAST-MODIFIED:20220305T211411Z
UID:10240-1767898800-1767902400@centerpointdmv.org
SUMMARY:Kingdom Bible Study
DESCRIPTION:
URL:https://centerpointdmv.org/event/kingdom-bible-study-2026-01-08/
CATEGORIES:Virtual
ATTACH;FMTTYPE=image/jpeg:https://centerpointdmv.org/wp-content/uploads/2022/03/CenterPoint-Church-kingdom-bible-study-1920x1267-1.jpg
END:VEVENT
BEGIN:VEVENT
DTSTART;TZID=UTC:20260106T190000
DTEND;TZID=UTC:20260106T200000
DTSTAMP:20260425T233934
CREATED:20220305T213056Z
LAST-MODIFIED:20220305T213056Z
UID:10239-1767726000-1767729600@centerpointdmv.org
SUMMARY:Wailing Women Win Prayer Call
DESCRIPTION:Dial-In Number: 202-780-6411. The Wailing Women Win Prayer Call is a powerful experience of communal prayer and spiritual healing. Led by a team of trained and passionate prayer warriors\, this call unites women from around the world in a sacred setting to raise their voices in prayer for justice and mercy. During the call\, each woman is encouraged to share her story of struggle and hope\, as well as to release her burdens and fears through prayer. As the prayers of the women are weaved together\, a powerful wave of love and healing is released into the world. This experience of collective spiritual energy helps to bring a sense of unity\, hope and healing to those in need.
URL:https://centerpointdmv.org/event/womens-prayer-call-2026-01-06/
CATEGORIES:Virtual
ATTACH;FMTTYPE=image/jpeg:https://centerpointdmv.org/wp-content/uploads/2022/03/Copy-of-CP-Prayer-Call-Ebony-McMorris-Digital.jpg
END:VEVENT
BEGIN:VEVENT
DTSTART;TZID=UTC:20260104T090000
DTEND;TZID=UTC:20260104T103000
DTSTAMP:20260425T233934
CREATED:20220305T213543Z
LAST-MODIFIED:20220305T213543Z
UID:10238-1767517200-1767522600@centerpointdmv.org
SUMMARY:Worship Service
DESCRIPTION:
URL:https://centerpointdmv.org/event/worship-service-2026-01-04/
ATTACH;FMTTYPE=image/jpeg:https://centerpointdmv.org/wp-content/uploads/2022/03/CenterPoint-Church-couch-church-1920x1267-1.jpg
END:VEVENT
BEGIN:VEVENT
DTSTART;TZID=UTC:20260103T180000
DTEND;TZID=UTC:20260103T190000
DTSTAMP:20260425T233934
CREATED:20220305T210427Z
LAST-MODIFIED:20220305T210427Z
UID:10237-1767463200-1767466800@centerpointdmv.org
SUMMARY:Couch Church Rewind
DESCRIPTION:
URL:https://centerpointdmv.org/event/couch-church-rewind-2026-01-03/
ATTACH;FMTTYPE=image/jpeg:https://centerpointdmv.org/wp-content/uploads/2022/03/CenterPoint-Church-couch-church-rewind-1920x1267-1.jpg
END:VEVENT
BEGIN:VEVENT
DTSTART;TZID=UTC:20260101T190000
DTEND;TZID=UTC:20260101T200000
DTSTAMP:20260425T233934
CREATED:20220305T211411Z
LAST-MODIFIED:20220305T211411Z
UID:10236-1767294000-1767297600@centerpointdmv.org
SUMMARY:Kingdom Bible Study
DESCRIPTION:
URL:https://centerpointdmv.org/event/kingdom-bible-study-2026-01-01/
CATEGORIES:Virtual
ATTACH;FMTTYPE=image/jpeg:https://centerpointdmv.org/wp-content/uploads/2022/03/CenterPoint-Church-kingdom-bible-study-1920x1267-1.jpg
END:VEVENT
BEGIN:VEVENT
DTSTART;TZID=UTC:20251230T190000
DTEND;TZID=UTC:20251230T200000
DTSTAMP:20260425T233934
CREATED:20220305T213056Z
LAST-MODIFIED:20220305T213056Z
UID:10235-1767121200-1767124800@centerpointdmv.org
SUMMARY:Wailing Women Win Prayer Call
DESCRIPTION:Dial-In Number: 202-780-6411. The Wailing Women Win Prayer Call is a powerful experience of communal prayer and spiritual healing. Led by a team of trained and passionate prayer warriors\, this call unites women from around the world in a sacred setting to raise their voices in prayer for justice and mercy. During the call\, each woman is encouraged to share her story of struggle and hope\, as well as to release her burdens and fears through prayer. As the prayers of the women are weaved together\, a powerful wave of love and healing is released into the world. This experience of collective spiritual energy helps to bring a sense of unity\, hope and healing to those in need.
URL:https://centerpointdmv.org/event/womens-prayer-call-2025-12-30/
CATEGORIES:Virtual
ATTACH;FMTTYPE=image/jpeg:https://centerpointdmv.org/wp-content/uploads/2022/03/Copy-of-CP-Prayer-Call-Ebony-McMorris-Digital.jpg
END:VEVENT
BEGIN:VEVENT
DTSTART;TZID=UTC:20251228T090000
DTEND;TZID=UTC:20251228T103000
DTSTAMP:20260425T233934
CREATED:20220305T213543Z
LAST-MODIFIED:20220305T213543Z
UID:10234-1766912400-1766917800@centerpointdmv.org
SUMMARY:Worship Service
DESCRIPTION:
URL:https://centerpointdmv.org/event/worship-service-2025-12-28/
ATTACH;FMTTYPE=image/jpeg:https://centerpointdmv.org/wp-content/uploads/2022/03/CenterPoint-Church-couch-church-1920x1267-1.jpg
END:VEVENT
BEGIN:VEVENT
DTSTART;TZID=UTC:20251227T180000
DTEND;TZID=UTC:20251227T190000
DTSTAMP:20260425T233934
CREATED:20220305T210427Z
LAST-MODIFIED:20220305T210427Z
UID:10233-1766858400-1766862000@centerpointdmv.org
SUMMARY:Couch Church Rewind
DESCRIPTION:
URL:https://centerpointdmv.org/event/couch-church-rewind-2025-12-27/
ATTACH;FMTTYPE=image/jpeg:https://centerpointdmv.org/wp-content/uploads/2022/03/CenterPoint-Church-couch-church-rewind-1920x1267-1.jpg
END:VEVENT
BEGIN:VEVENT
DTSTART;TZID=UTC:20251225T190000
DTEND;TZID=UTC:20251225T200000
DTSTAMP:20260425T233934
CREATED:20220305T211411Z
LAST-MODIFIED:20220305T211411Z
UID:10232-1766689200-1766692800@centerpointdmv.org
SUMMARY:Kingdom Bible Study
DESCRIPTION:
URL:https://centerpointdmv.org/event/kingdom-bible-study-2025-12-25/
CATEGORIES:Virtual
ATTACH;FMTTYPE=image/jpeg:https://centerpointdmv.org/wp-content/uploads/2022/03/CenterPoint-Church-kingdom-bible-study-1920x1267-1.jpg
END:VEVENT
BEGIN:VEVENT
DTSTART;TZID=UTC:20251223T190000
DTEND;TZID=UTC:20251223T200000
DTSTAMP:20260425T233934
CREATED:20220305T213056Z
LAST-MODIFIED:20220305T213056Z
UID:10231-1766516400-1766520000@centerpointdmv.org
SUMMARY:Wailing Women Win Prayer Call
DESCRIPTION:Dial-In Number: 202-780-6411. The Wailing Women Win Prayer Call is a powerful experience of communal prayer and spiritual healing. Led by a team of trained and passionate prayer warriors\, this call unites women from around the world in a sacred setting to raise their voices in prayer for justice and mercy. During the call\, each woman is encouraged to share her story of struggle and hope\, as well as to release her burdens and fears through prayer. As the prayers of the women are weaved together\, a powerful wave of love and healing is released into the world. This experience of collective spiritual energy helps to bring a sense of unity\, hope and healing to those in need.
URL:https://centerpointdmv.org/event/womens-prayer-call-2025-12-23/
CATEGORIES:Virtual
ATTACH;FMTTYPE=image/jpeg:https://centerpointdmv.org/wp-content/uploads/2022/03/Copy-of-CP-Prayer-Call-Ebony-McMorris-Digital.jpg
END:VEVENT
BEGIN:VEVENT
DTSTART;TZID=UTC:20251221T090000
DTEND;TZID=UTC:20251221T103000
DTSTAMP:20260425T233934
CREATED:20220305T213543Z
LAST-MODIFIED:20220305T213543Z
UID:10230-1766307600-1766313000@centerpointdmv.org
SUMMARY:Worship Service
DESCRIPTION:
URL:https://centerpointdmv.org/event/worship-service-2025-12-21/
ATTACH;FMTTYPE=image/jpeg:https://centerpointdmv.org/wp-content/uploads/2022/03/CenterPoint-Church-couch-church-1920x1267-1.jpg
END:VEVENT
BEGIN:VEVENT
DTSTART;TZID=UTC:20251220T180000
DTEND;TZID=UTC:20251220T190000
DTSTAMP:20260425T233934
CREATED:20220305T210427Z
LAST-MODIFIED:20220305T210427Z
UID:10229-1766253600-1766257200@centerpointdmv.org
SUMMARY:Couch Church Rewind
DESCRIPTION:
URL:https://centerpointdmv.org/event/couch-church-rewind-2025-12-20/
ATTACH;FMTTYPE=image/jpeg:https://centerpointdmv.org/wp-content/uploads/2022/03/CenterPoint-Church-couch-church-rewind-1920x1267-1.jpg
END:VEVENT
BEGIN:VEVENT
DTSTART;TZID=UTC:20251218T190000
DTEND;TZID=UTC:20251218T200000
DTSTAMP:20260425T233934
CREATED:20220305T211411Z
LAST-MODIFIED:20220305T211411Z
UID:10228-1766084400-1766088000@centerpointdmv.org
SUMMARY:Kingdom Bible Study
DESCRIPTION:
URL:https://centerpointdmv.org/event/kingdom-bible-study-2025-12-18/
CATEGORIES:Virtual
ATTACH;FMTTYPE=image/jpeg:https://centerpointdmv.org/wp-content/uploads/2022/03/CenterPoint-Church-kingdom-bible-study-1920x1267-1.jpg
END:VEVENT
BEGIN:VEVENT
DTSTART;TZID=UTC:20251216T190000
DTEND;TZID=UTC:20251216T200000
DTSTAMP:20260425T233934
CREATED:20220305T213056Z
LAST-MODIFIED:20220305T213056Z
UID:10227-1765911600-1765915200@centerpointdmv.org
SUMMARY:Wailing Women Win Prayer Call
DESCRIPTION:Dial-In Number: 202-780-6411. The Wailing Women Win Prayer Call is a powerful experience of communal prayer and spiritual healing. Led by a team of trained and passionate prayer warriors\, this call unites women from around the world in a sacred setting to raise their voices in prayer for justice and mercy. During the call\, each woman is encouraged to share her story of struggle and hope\, as well as to release her burdens and fears through prayer. As the prayers of the women are weaved together\, a powerful wave of love and healing is released into the world. This experience of collective spiritual energy helps to bring a sense of unity\, hope and healing to those in need.
URL:https://centerpointdmv.org/event/womens-prayer-call-2025-12-16/
CATEGORIES:Virtual
ATTACH;FMTTYPE=image/jpeg:https://centerpointdmv.org/wp-content/uploads/2022/03/Copy-of-CP-Prayer-Call-Ebony-McMorris-Digital.jpg
END:VEVENT
BEGIN:VEVENT
DTSTART;TZID=UTC:20251214T090000
DTEND;TZID=UTC:20251214T103000
DTSTAMP:20260425T233934
CREATED:20220305T213543Z
LAST-MODIFIED:20220305T213543Z
UID:10226-1765702800-1765708200@centerpointdmv.org
SUMMARY:Worship Service
DESCRIPTION:
URL:https://centerpointdmv.org/event/worship-service-2025-12-14/
ATTACH;FMTTYPE=image/jpeg:https://centerpointdmv.org/wp-content/uploads/2022/03/CenterPoint-Church-couch-church-1920x1267-1.jpg
END:VEVENT
BEGIN:VEVENT
DTSTART;TZID=UTC:20251213T180000
DTEND;TZID=UTC:20251213T190000
DTSTAMP:20260425T233934
CREATED:20220305T210427Z
LAST-MODIFIED:20220305T210427Z
UID:10225-1765648800-1765652400@centerpointdmv.org
SUMMARY:Couch Church Rewind
DESCRIPTION:
URL:https://centerpointdmv.org/event/couch-church-rewind-2025-12-13/
ATTACH;FMTTYPE=image/jpeg:https://centerpointdmv.org/wp-content/uploads/2022/03/CenterPoint-Church-couch-church-rewind-1920x1267-1.jpg
END:VEVENT
END:VCALENDAR