BEGIN:VCALENDAR
VERSION:2.0
PRODID:-//CenterPoint Church | Washington, DC - ECPv6.15.20//NONSGML v1.0//EN
CALSCALE:GREGORIAN
METHOD:PUBLISH
X-ORIGINAL-URL:https://centerpointdmv.org
X-WR-CALDESC:Events for CenterPoint Church | Washington, DC
REFRESH-INTERVAL;VALUE=DURATION:PT1H
X-Robots-Tag:noindex
X-PUBLISHED-TTL:PT1H
BEGIN:VTIMEZONE
TZID:UTC
BEGIN:STANDARD
TZOFFSETFROM:+0000
TZOFFSETTO:+0000
TZNAME:UTC
DTSTART:20250101T000000
END:STANDARD
END:VTIMEZONE
BEGIN:VEVENT
DTSTART;TZID=UTC:20260329T090000
DTEND;TZID=UTC:20260329T103000
DTSTAMP:20260425T131242
CREATED:20220305T213543Z
LAST-MODIFIED:20220305T213543Z
UID:10298-1774774800-1774780200@centerpointdmv.org
SUMMARY:Worship Service
DESCRIPTION:
URL:https://centerpointdmv.org/event/worship-service-2026-03-29/
ATTACH;FMTTYPE=image/jpeg:https://centerpointdmv.org/wp-content/uploads/2022/03/CenterPoint-Church-couch-church-1920x1267-1.jpg
END:VEVENT
END:VCALENDAR